Workbook
Name __xlfn_COUNTIFS: #N/A
Name Excel_BuiltIn__FilterDatabase: FAMURS!$A$1:$B$1000
Name Excel_BuiltIn__FilterDatabase: Geral!$A$1:$I$499
Name Título: Geral!$A$1:$G$1

Sheet Geral
A1: CódigoIBGE | B1: Município | C1: CRS | D1: Região de Saúde | E1: Macrorregião de Saúde | F1: COREDES (SPGG 03/08/2022) | G1: RegiãoFuncional | H1: ASSOCIAÇÃO FAMURS
A2: 430060 | B2: Alvorada | C2: 1 | D2: 10 - Capital e Vale do Gravataí | E2: Metropolitana | F2: Metropolitano Delta do Jacuí | G2: RF1 | H2: =VLOOKUP(B2,FAMURS!A$2:B$498,2,0) -> GRANPAL
A3: 430085 | B3: Arambaré | C3: 1 | D3: 09 - Carbonífera/Costa Doce | E3: Metropolitana | F3: Centro-Sul | G3: RF1 | H3: =VLOOKUP(B3,FAMURS!A$2:B$498,2,0) -> ACOSTADOCE
A4: 430087 | B4: Araricá | C4: 1 | D4: 07 - Vale dos Sinos | E4: Metropolitana | F4: Vale do Rio dos Sinos | G4: RF1 | H4: =VLOOKUP(B4,FAMURS!A$2:B$498,2,0) -> AMVARS
A5: 430110 | B5: Arroio dos Ratos | C5: 1 | D5: 09 - Carbonífera/Costa Doce | E5: Metropolitana | F5: Centro-Sul | G5: RF1 | H5: =VLOOKUP(B5,FAMURS!A$2:B$498,2,0) -> ASMURC
A6: 430165 | B6: Barão | C6: 1 | D6: 08 - Vale do Caí e Metropolitana | E6: Metropolitana | F6: Vale do Caí | G6: RF1 | H6: =VLOOKUP(B6,FAMURS!A$2:B$498,2,0) -> AMVARC
A7: 430175 | B7: Barão do Triunfo | C7: 1 | D7: 09 - Carbonífera/Costa Doce | E7: Metropolitana | F7: Centro-Sul | G7: RF1 | H7: =VLOOKUP(B7,FAMURS!A$2:B$498,2,0) -> ASMURC
A8: 430190 | B8: Barra do Ribeiro | C8: 1 | D8: 09 - Carbonífera/Costa Doce | E8: Metropolitana | F8: Centro-Sul | G8: RF1 | H8: =VLOOKUP(B8,FAMURS!A$2:B$498,2,0) -> ACOSTADOCE
A9: 430265 | B9: Brochier | C9: 1 | D9: 08 - Vale do Caí e Metropolitana | E9: Metropolitana | F9: Vale do Caí | G9: RF1 | H9: =VLOOKUP(B9,FAMURS!A$2:B$498,2,0) -> AMVARC
A10: 430270 | B10: Butiá | C10: 1 | D10: 09 - Carbonífera/Costa Doce | E10: Metropolitana | F10: Centro-Sul | G10: RF1 | H10: =VLOOKUP(B10,FAMURS!A$2:B$498,2,0) -> ASMURC
A11: 430310 | B11: Cachoeirinha | C11: 1 | D11: 10 - Capital e Vale do Gravataí | E11: Metropolitana | F11: Metropolitano Delta do Jacuí | G11: RF1 | H11: =VLOOKUP(B11,FAMURS!A$2:B$498,2,0) -> GRANPAL
A12: 430350 | B12: Camaquã | C12: 1 | D12: 09 - Carbonífera/Costa Doce | E12: Metropolitana | F12: Centro-Sul | G12: RF1 | H12: =VLOOKUP(B12,FAMURS!A$2:B$498,2,0) -> ACOSTADOCE
A13: 430360 | B13: Cambará do Sul | C13: 1 | D13: 06 - Vale do Paranha e Costa Serra | E13: Metropolitana | F13: Hortênsias | G13: RF3 | H13: =VLOOKUP(B13,FAMURS!A$2:B$498,2,0) -> AMSERRA
... A498: 432380 | B498: Xangri-lá | C498: 18 | D498: 04 - Belas Praias | E498: Metropolitana | F498: Litoral | G498: RF4 | H498: =VLOOKUP(B498,FAMURS!A$2:B$498,2,0) -> AMLINORTE

Sheet Totais
A1: Conforme Nota de Orientação da AGEPLAN/SES/RS, os dados populacionais utilizados por padrão na SES são oriundos da do Sul orienta sobre a utilização da nova proposta de estimativa populacional apresentada pela Rede Interagencial de Informações para a Saúde (RIPSA), para os anos de 2000 a 2024. A base de dados está disponível neste link
A3: CRS | E3: MACRO | I3: REGIÃO | M3: MUNICÍPIOS POR POPULAÇÃO
A4: CRS | B4: Nº de Municípios | C4: População 2024 | E4: Macrorregião | F4: Nº de Municípios | G4: População 2024 | I4: Região de Saúde | J4: Nº municípios | K4: População 2024 | M4: Municípios: divisão por população | N4: Quantidade | O4: Percentual
A5: 1 | B5: =SUM(J10:J14) -> 67 | C5: =SUM(K10:K14) -> 4440858 | E5: Centro-Oeste | F5: =SUM(I5:J7) -> 44 | G5: =SUM(K5:K7) -> 1029770 | I5: 01 - Verdes Campos | J5: 22 | K5: 450145 | M5: Faixa Populacional | N5: Quantidade | O5: Percentual (%)
A6: 2 | B6: =SUM(J19) -> 26 | C6: =SUM(K19) -> 194699 | E6: Metropolitana | F6: =SUM(J8:J14) -> 90 | G6: =SUM(K8:K14) -> 4875188 | I6: 02 - Entre Rios | J6: =COUNTIF(Geral!D:D,I6) -> 11 | K6: 120096 | M6: Até 2.000 hab | N6: 42 | O6: 0.0845
A7: 3 | B7: =SUM(J25) -> 21 | C7: =K25 -> 842663 | E7: Missioneira | F7: =SUM(J15:J18) -> 78 | G7: =SUM(K15:K18) -> 884499 | I7: 03 - Fronteira Oeste | J7: =COUNTIF(Geral!D:D,I7) -> 11 | K7: 459529 | M7: 2.001 até 5.000 hab | N7: 194 | O7: 0.3903
A8: 4 | B8: =SUM(J5:J6) -> 33 | C8: =SUM(K5:K6) -> 570241 | E8: Norte | F8: =SUM(J19:J24) -> 147 | G8: =SUM(K19:K24) -> 1277971 | I8: 04 - Belas Praias | J8: =COUNTIF(Geral!D:D,I8) -> 12 | K8: 181405 | M8: 5.001 até 10.000 hab | N8: 99 | O8: 0.1992
A9: 5 | B9: =SUM(J27:J30) -> 49 | C9: =SUM(K27:K30) -> 1218614 | E9: Serra | F9: =SUM(J27:J30) -> 49 | G9: =SUM(K27:K30) -> 1218614 | I9: 05 - Bons Ventos | J9: =COUNTIF(Geral!D:D,I9) -> 11 | K9: 252925 | M9: 10.001 até 20.000 hab | N9: 57 | O9: 0.1147
A10: 6 | B10: =SUM(J21:J23) -> 62 | C10: =SUM(K21:K23) -> 680273 | E10: Sul | F10: =SUM(J25:J26) -> 27 | G10: =SUM(K25:K26) -> 1031298 | I10: 06 - Vale do Paranha e Costa da Serra | J10: 8 | K10: 222268 | M10: 20.001 até 50.000 hab | N10: 60 | O10: 0.1207
A11: 7 | B11: =SUM(J26) -> 6 | C11: =K26 -> 188635 | E11: Vales | F11: =SUM(J31:J34) -> 62 | G11: =SUM(K31:K34) -> 912575 | I11: 07 - Vale dos Sinos | J11: =COUNTIF(Geral!D:D,I11) -> 15 | K11: 800226 | M11: 50.001 até 100.000 hab | N11: 26 | O11: 0.0523
A12: 8 | B12: =SUM(J31) -> 12 | C12: =Totais!K31 -> 193690 | E12: Total | F12: =SUM(F5:F11) -> 497 | G12: =SUM(G5:G11) -> 11229915 | I12: 08 - Vale do Caí e Metropolitana | J12: =COUNTIF(Geral!D:D,I12) -> 18 | K12: 782413 | M12: 100.001 até 200.000 hab | N12: 9 | O12: 0.0181
A13: 9 | B13: =SUM(J16) -> 12 | C13: =K16 -> 127601 | I13: 09 - Carbonífera/Costa Doce | J13: =COUNTIF(Geral!D:D,I13) -> 20 | K13: 395961 | M13: 200.001 até 300.000 hab | N13: 6 | O13: 0.0121
A14: 10 | B14: =SUM(J7) -> 11 | C14: =K7 -> 459529 | I14: 10 - Capital e Vale do Gravataí | J14: =COUNTIF(Geral!D:D,I14) -> 6 | K14: 2239990 | M14: 300.001 até 400.000 hab | N14: 2 | O14: 0.004
A15: 11 | B15: =SUM(J20) -> 33 | C15: =K20 -> 239574 | I15: 11 - Sete Povos das Missões | J15: =COUNTIF(Geral!D:D,I15) -> 24 | K15: 285494 | M15: Mais de 500.000 hab | N15: 2 | O15: 0.004
A16: 12 | B16: =SUM(J15) -> 24 | C16: =K15 -> 285494 | I16: 12 - Portal das Missões | J16: =COUNTIF(Geral!D:D,I16) -> 12 | K16: 127601 | M16: Total de Municípios | N16: 497 | O16: 1
A17: 13 | B17: =SUM(J32) -> 13 | C17: =K32 -> 351534 | I17: 13 - Diversidade | J17: =COUNTIF(Geral!D:D,I17) -> 20 | K17: 234900
A18: 14 | B18: =SUM(J18) -> 22 | C18: =K18 -> 236504 | I18: 14 - Fronteira Noroeste | J18: =COUNTIF(Geral!D:D,I18) -> 22 | K18: 236504
A19: 15 | B19: =SUM(J24) -> 26 | C19: =K24 -> 163425 | I19: 15 - Caminho das águas | J19: =COUNTIF(Geral!D:D,I19) -> 26 | K19: 194699
A20: 16 | B20: =SUM(J33:J34) -> 37 | C20: =SUM(K33:K34) -> 367351 | I20: 16 - Alto Uruguai Gaúcho | J20: =COUNTIF(Geral!D:D,I20) -> 33 | K20: 239574
A21: 17 | B21: =SUM(J17) -> 20 | C21: =K17 -> 234900 | I21: 17 - Planalto | J21: =COUNTIF(Geral!D:D,I21) -> 28 | K21: 432110
A22: 18 | B22: =SUM(J8:J9) -> 23 | C22: =SUM(K8:K9) -> 434330 | I22: 18 - Araucárias | J22: =COUNTIF(Geral!D:D,I22) -> 20 | K22: 134594
A23: Total | B23: =SUM(B5:B22) -> 497 | C23: =SUM(C5:C22) -> 11229915 | I23: 19 - Botucaruí | J23: =COUNTIF(Geral!D:D,I23) -> 14 | K23: 113569
I24: 20 - Rota da Produção | J24: =COUNTIF(Geral!D:D,I24) -> 26 | K24: 163425
I25: 21 - Região Sul | J25: 21 | K25: 842663
I26: 22 - Pampa | J26: =COUNTIF(Geral!D:D,I26) -> 6 | K26: 188635
I27: 23 - Caxias e Hortênsias | J27: =COUNTIF(Geral!D:D,I27) -> 6 | K27: 602569
I28: 24 - Campos de Cima da Serra | J28: =COUNTIF(Geral!D:D,I28) -> 9 | K28: 100644
I29: 25 - Vinhedos e Basalto | J29: 22 | K29: 325366
I30: 26 - Uva Vale | J30: =COUNTIF(Geral!D:D,I30) -> 12 | K30: 190035
I31: 27 - Jacuí Centro | J31: =COUNTIF(Geral!D:D,I31) -> 12 | K31: 193690
I32: 28 - Vale do Rio Pardo | J32: 13 | K32: 351534
I33: 29 - Vales e Montanhas | J33: =COUNTIF(Geral!D:D,I33) -> 27 | K33: 237991
I34: 30 - Vale da Luz | J34: =COUNTIF(Geral!D:D,I34) -> 10 | K34: 129360
I35: Total | J35: =SUM(J5:J34) -> 497 | K35: =SUM(K5:K34) -> 11229915

Sheet FAMURS
A1: MUNICÍPIO | B1: ASSOCIAÇÃO | D1: Município | E1: Assosiação
A2: ACEGUÁ | B2: ASSUDOESTE | D2: ALVORADA | E2: =VLOOKUP(D2,A2:B498,2,TRUE) -> GRANPAL
A3: ÁGUA SANTA | B3: AMUNOR
A4: AGUDO | B4: AMCENTRO
A5: AJURICABA | B5: AMUPLAM
A6: ALECRIM | B6: AMUFRON
A7: ALEGRETE | B7: AMFRO
A8: ALEGRIA | B8: AMUFRON
A9: ALMIRANTE TAMANDARÉ DO SUL | B9: AMAJA
A10: ALPESTRE | B10: AMZOP
A11: ALTO ALEGRE | B11: AMASBI
A12: ALTO FELIZ | B12: AMVARC
A13: ALVORADA | B13: GRANPAL
A14: AMARAL FERRADOR | B14: AZONASUL
... A498: XANGRI-LÁ | B498: AMLINORTE

Sheet COREDE  RF
A1: CODIGO IBGE | B1: MUNICÍPIO | C1: COREDE | D1: REGIÃO FUNCIONAL
A2: 4300034 | B2: Aceguá | C2: Campanha | D2: RF6
A3: 4300059 | B3: Água Santa | C3: Nordeste | D3: RF9
A4: 4300109 | B4: Agudo | C4: Central | D4: RF8
A5: 4300208 | B5: Ajuricaba | C5: Noroeste Colonial | D5: RF7
A6: 4300307 | B6: Alecrim | C6: Fronteira Noroeste | D6: RF7
A7: 4300406 | B7: Alegrete | C7: Fronteira Oeste | D7: RF6
A8: 4300455 | B8: Alegria | C8: Fronteira Noroeste | D8: RF7
A9: 4300471 | B9: Almirante Tamandaré do Sul | C9: Produção | D9: RF9
A10: 4300505 | B10: Alpestre | C10: Médio Alto Uruguai | D10: RF9
A11: 4300554 | B11: Alto Alegre | C11: Alto da Serra do Botucaraí | D11: RF9
A12: 4300570 | B12: Alto Feliz | C12: Vale do Caí | D12: RF1
A13: 4300604 | B13: Alvorada | C13: Metropolitano Delta do Jacuí | D13: RF1
... A498: 4323804 | B498: Xangri-lá | C498: Litoral | D498: RF4
